BEGIN:VCALENDAR
VERSION:2.0
PRODID:-//wp-events-plugin.com//7.2.3.1//EN
BEGIN:VEVENT
UID:151@justonelap.com
DTSTART;TZID=Africa/Johannesburg:20220209T180000
DTEND;TZID=Africa/Johannesburg:20220209T193000
DTSTAMP:20220124T090647Z
URL:https://justonelap.com/events/wealth-creation-through-trading-and-inve
 sting-with-thinkmarkets/
SUMMARY:Wealth Creation through Trading and Investing with ThinkMarkets
DESCRIPTION:We’re told to live in the present\, but what does that mean f
 or your money? Once you hear the word future you are overwhelmed with term
 s such as Investments and annuities but how do you know what’s best for 
 you?\n\nThis is where we come in! ThinkMarkets is a global award-winning b
 roker allowing you to trade and invest the world in the palm of your hand!
 \n\nJoin us for a live webinar where we will explore the best ways to trad
 e and invest.\n\nTopics we will cover\n\n 	Investing monthly vs lump sum i
 nvesting\n 	How to invest in order to buy that next car cash\n 	What to in
 vest in\n 	What to trade in\n 	How to avoid losing money due to fees\n\n\n
 \n\n\n 	Book for the webcast here.\n 	Book for the in-person event here.\n
END:VEVENT
BEGIN:VTIMEZONE
TZID:Africa/Johannesburg
X-LIC-LOCATION:Africa/Johannesburg
BEGIN:STANDARD
DTSTART:20210209T180000
TZOFFSETFROM:+0200
TZOFFSETTO:+0200
TZNAME:SAST
END:STANDARD
END:VTIMEZONE
END:VCALENDAR