BEGIN:VCALENDAR
VERSION:2.0
PRODID:-//wp-events-plugin.com//7.2.3.1//EN
BEGIN:VEVENT
UID:161@justonelap.com
DTSTART;TZID=Africa/Johannesburg:20220713T150000
DTEND;TZID=Africa/Johannesburg:20220713T160000
DTSTAMP:20220704T143754Z
URL:https://justonelap.com/events/to-short-or-not-to-short-with-markets-co
 m/
SUMMARY:To short or not to short with Markets.com
DESCRIPTION:It's been a tough year for markets the world over as high-flyin
 g tech stocks have seen share prices smashed and even commodities are off 
 their 2021 highs.\n\nIn this webcast\, Simon Brown will answer the questio
 n of whether the selling is over or if we have more downside potential and
  should still be shorting.\n\n 	Book here.\n
END:VEVENT
BEGIN:VTIMEZONE
TZID:Africa/Johannesburg
X-LIC-LOCATION:Africa/Johannesburg
BEGIN:STANDARD
DTSTART:20210713T150000
TZOFFSETFROM:+0200
TZOFFSETTO:+0200
TZNAME:SAST
END:STANDARD
END:VTIMEZONE
END:VCALENDAR