BEGIN:VCALENDAR
VERSION:2.0
PRODID:-//wp-events-plugin.com//7.2.3.1//EN
BEGIN:VEVENT
UID:134@justonelap.com
DTSTART;TZID=Africa/Johannesburg:20210601T173000
DTEND;TZID=Africa/Johannesburg:20210601T183000
DTSTAMP:20210521T142756Z
URL:https://justonelap.com/events/thinkmarkets-key-points-to-investing/
SUMMARY:ThinkMarkets: Key points to investing
DESCRIPTION:Key points to investing\nThinkMarkets invites you to attend a w
 ebinar (online) to help you invest smarter and as always we do not charge 
 you for education.\nWhat you will learn\n\n 	Trading Strategy\n\nHow to cr
 eate a trading strategy or improve your existing one\n\n 	Risk management\
 n\nKeep your balance in check with a simple risk management strategy\n\n 	
 Investment Tips\n\nHow to use the tools at your disposal to make the right
  investment\nIntroducing ThinkMarkets\nMultiple-regulated broker\n\nAuthor
 ised by some of the most prestigious regulators around the globe (FCA\, FS
 CA\, ASIC)\n\n 	Multiple Products\n\nTraders’ can trade in various produ
 cts ( Currency Pairs\, CFDs\, Index\, Commodities) with ZERO comm on CFD s
 hares and Indices\nInvestors can invest in all JSE listed Shares and ETFs 
 from 0.25% brokerage\n\nPremium clients are offered tailor-made solutions 
 to best match their needs – Contact us to find out more if you invest or
  trade more than 250 000 ZAR\n\nThis is a unique opportunity for both new 
 and seasoned investors to learn how to be better and smarter at wealth cre
 ation through investing.\n\n 	Book here.\n
END:VEVENT
BEGIN:VTIMEZONE
TZID:Africa/Johannesburg
X-LIC-LOCATION:Africa/Johannesburg
BEGIN:STANDARD
DTSTART:20200601T173000
TZOFFSETFROM:+0200
TZOFFSETTO:+0200
TZNAME:SAST
END:STANDARD
END:VTIMEZONE
END:VCALENDAR