BEGIN:VCALENDAR
VERSION:2.0
PRODID:-//wp-events-plugin.com//7.2.3.1//EN
BEGIN:VEVENT
UID:148@justonelap.com
DTSTART;TZID=Africa/Johannesburg:20211125T173000
DTEND;TZID=Africa/Johannesburg:20211125T183000
DTSTAMP:20211111T173239Z
URL:https://justonelap.com/events/the-inflation-threat-is-it-becoming-stru
 ctural/
SUMMARY:The inflation threat\, is it becoming structural?
DESCRIPTION:US inflation was meant to be transitory – but after months of
  5+% inflation\, and a 6.2% print for October?\n\nSouth African inflation 
 currently sits in the upper-middle band. Higher rates could be on their wa
 y.\n\nJoin us to get actionable insights into:\n\n 	The state of play of S
 outh African inflation\n 	What’s driving higher prices\n 	The risk of in
 flation becoming structural\n 	What this means for investors and traders\n
 \nBook here.
END:VEVENT
BEGIN:VTIMEZONE
TZID:Africa/Johannesburg
X-LIC-LOCATION:Africa/Johannesburg
BEGIN:STANDARD
DTSTART:20201125T173000
TZOFFSETFROM:+0200
TZOFFSETTO:+0200
TZNAME:SAST
END:STANDARD
END:VTIMEZONE
END:VCALENDAR