BEGIN:VCALENDAR
VERSION:2.0
PRODID:-//wp-events-plugin.com//7.2.3.1//EN
BEGIN:VEVENT
UID:212@justonelap.com
DTSTART:20250218T153000Z
DTEND:20250218T163000Z
DTSTAMP:20250205T082917Z
URL:https://justonelap.com/events/tax-free-investing-with-exchange-traded-
 products/
SUMMARY:Standard Bank Power Hour: Exchange Traded Products and Tax Efficien
 t Investing
DESCRIPTION:[vc_row padding_top="0px" padding_bottom="0px"][vc_column fade_
 animation_offset="45px" width="1/1"][vc_column_text css=""]\n\n[caption id
 ="attachment_41307" align="alignleft" width="150"] Simon Brown[/caption]\n
 \nStart the new year with a diverse growth orientated portfolio and maximi
 se your tax-free investing.\n\nWe kick off the 2025 Standard Bank Power Ho
 ur series with Simon Brown discussing Exchange Traded Products (ETPs) and 
 tax-free investing.\n\nETPs local and global\n\n 	The rise of new ETP prod
 ucts locally (Actively managed certificates &amp\; Actively managed ETFs)\
 n 	The ETP offshore offering\n 	Building a diverse portfolio with ETPs\n\n
 Tax-free investing in 2025\n\n 	Current limits (will the minister increase
  them in his budget speech?)\n 	What to buy?\n 	Withdrawals\n 	Moving acco
 unts\n 	Other tax efficient options for investors\n\n\n\n\nIf you want to 
 attend in person at Standard Bank 30 Baker street\, Rosebank  please emai
 l macdonald@justonelap.com with name\, number attending and car reg for s
 ecure parking access.\n\n\n\nBook for the webcast here.\n\n\n\n[/vc_column
 _text][/vc_column][/vc_row]
END:VEVENT
END:VCALENDAR