BEGIN:VCALENDAR
VERSION:2.0
PRODID:-//wp-events-plugin.com//7.2.3.1//EN
BEGIN:VEVENT
UID:232@justonelap.com
DTSTART:20260528T153000Z
DTEND:20260528T163000Z
DTSTAMP:20260423T095306Z
URL:https://justonelap.com/events/power-hour-power-hour-how-to-find-the-ne
 xt-capitec-creating-a-process-that-catches-the-future-giants/
SUMMARY:Power Hour: Power Hour: How to Find the Next Capitec. Creating a pr
 ocess that catches the future giants
DESCRIPTION:[vc_row padding_top="0px" padding_bottom="0px"][vc_column fade_
 animation_offset="45px" width="1/1"][vc_column_text css=""]\n\n[caption id
 ="attachment_35453" align="alignleft" width="300"] Simon Brown[/caption]\n
 \nCapitec is the single most successful JSE listing of the past 25 years. 
 From 200c at it's 2002 listing the share is over R4\,500 today — a retur
 n that has humbled almost every professional fund manager in the country. 
 At the time\, it was a small\, unloved micro-lender dismissed by the Big F
 our banks and ignored by most analysts. The signals were there\, but almos
 t nobody acted on them.\n\nIn this Standard Bank Power Hour\, Simon Brown 
 unpacks what was actually visible at listing\, what was luck\, and what ca
 n be turned into a repeatable framework for spotting the next one.\n\nWe w
 ill work through the tests that separate a genuine compounder from a story
  stock: the market opportunity\, the business model\, the management team\
 , the capital structure\, and the things that kill these stories before th
 ey get going.\n\nThen we will apply the framework live to current local an
 d offshore small and mid caps to see which ones stand up to scrutiny and w
 hich do not.\nYou will not leave with a hot tip. You will leave with a rep
 eatable process that you'll be able to use again and again in your investi
 ng journey.\n\n\n\n\n 	Register for the webcast here.\n 	If you want to at
 tend in person at Standard Bank 30 Baker street\, Rosebank  please email 
 macdonald@justonelap.com with name\, number attending and car reg for sec
 ure parking access.\n\n\n\n\n[/vc_column_text][/vc_column][/vc_row]
END:VEVENT
END:VCALENDAR