BEGIN:VCALENDAR
VERSION:2.0
PRODID:-//wp-events-plugin.com//7.2.3.1//EN
BEGIN:VEVENT
UID:196@justonelap.com
DTSTART:20240516T153000Z
DTEND:20240516T163000Z
DTSTAMP:20240516T182035Z
URL:https://justonelap.com/events/power-hour-actively-managed-certificates
 -and-structured-products-how-they-fit-into-a-well-constructed-portfolio/
SUMMARY:Power Hour: Actively Managed Certificates and Structured Products\;
  how they fit into a well constructed portfolio
DESCRIPTION:[caption id="attachment_41978" align="alignleft" width="212"] K
 evin Swartz[/caption]\n\n\n\n\n\n\n\nJoin us for an insightful Standard Ba
 nk Power Hour featuring Kevin Swartz from Standard Bank\, as he helps us u
 nderstand the world of Actively Managed Certificates (AMCs) and Structured
  Products.\n\nKevin Swartz\, with his extensive background in corporate fi
 nance and investment banking\, is well-equipped to explain the intricacies
  of AMCs and structured products and how they fit within a diverse well co
 nstructed portfolio.\n\nHe will discuss how these instruments are designed
 \, their risk and return profiles\, and how they can be used to manage ove
 rall investment risks\, invest into different asset classes and enhance po
 rtfolio performance.\n\nHe'll also detail the AMCs from Standard Bank help
 ing us understand their mandates and positioning within a portfolio.\n\nWh
 ether you're an experienced investor seeking to expand your strategies or 
 a newcomer looking to understand the dynamics of these products\, this eve
 nt promises to offer valuable knowledge and practical applications.\n\n\n\
 nBook to attend the webcast here.\n\n\n\n&nbsp\;
END:VEVENT
END:VCALENDAR