BEGIN:VCALENDAR
VERSION:2.0
PRODID:-//wp-events-plugin.com//7.2.3.1//EN
BEGIN:VEVENT
UID:95@justonelap.com
DTSTART;TZID=Africa/Johannesburg:20190815T173000
DTEND;TZID=Africa/Johannesburg:20190815T183000
DTSTAMP:20190729T065047Z
URL:https://justonelap.com/events/jse-power-hour-using-etfs-for-investing-
 and-retiring/
SUMMARY:JSE Power Hour: ETFs for investing and retiring
DESCRIPTION:With 105 Exchange Traded Funds (ETFs) and Exchange Traded Notes
  (ETNs) now listed on the JSE\, there is a wide choice of low cost\, trans
 parent\, highly liquid ETPs to choose from when looking to invest.\n\nYou 
 can now access the following asset classes using JSE listed ETFs/ETNs:\n\n
  	Foreign equities\, bonds\, property\, high dividends and smart beta.\n 	
 South Africa equities\, bonds\, listed property\, smart beta and high inco
 me earning assets.\n 	Physical Commodities\n 	Currencies\n 	Balanced Portf
 olios\, including actively managed ETNS.\n\nMike Brown\, Managing Director
  and founder of etFSA.co.za\, and father of ETFs in South Africa having st
 arted the first ETF at Satrix in 2000 will unpack how to choose between th
 e different ETPs and how to use them optimally in:\n\n 	Tax-Free Investmen
 t Accounts\n 	Retirement Products\, like RAs and Living Annuities\n 	Profe
 ssional Managed balanced multi-asset ETF portfolios for investment in Sout
 h Africa or in global markets.\n 	Self-managing your own ETF portfolios\,\
 n\nETFs/ETNs are ideal\, even when starting off your investment journey\, 
 by investing with debit orders from R150 per month. But are equally suitab
 le to multi-million investments\, where diversification\, risk management 
 and strategic asset allocation are made easier\, more cost effective and t
 ransparent by using ETPs in portfolio construction.\n\n 	Book for the webc
 ast here.\n 	Book for the live event here.\n
END:VEVENT
BEGIN:VTIMEZONE
TZID:Africa/Johannesburg
X-LIC-LOCATION:Africa/Johannesburg
BEGIN:STANDARD
DTSTART:20180815T173000
TZOFFSETFROM:+0200
TZOFFSETTO:+0200
TZNAME:SAST
END:STANDARD
END:VTIMEZONE
END:VCALENDAR