BEGIN:VCALENDAR
VERSION:2.0
PRODID:-//wp-events-plugin.com//7.2.3.1//EN
BEGIN:VEVENT
UID:152@justonelap.com
DTSTART;TZID=Africa/Johannesburg:20220217T173000
DTEND;TZID=Africa/Johannesburg:20220217T183000
DTSTAMP:20220217T173426Z
URL:https://justonelap.com/events/jse-power-hour-tax-free-investing/
SUMMARY:JSE Power Hour: Tax-free investing
DESCRIPTION:Here's the video from the event.\n\n\n\n\n\nFebruary is nationa
 l budget month which means a new tax year is about to start and for invest
 ors\, this means a new year for us to top up our tax-free accounts.\n\nMar
 ch 2015 was the start of the tax-free accounts and this will be the sevent
 h year we're able to make deposits. By now many investors tax-free account
 s are looking very healthy\, especially after the local and global stock m
 arket rally of the last two years.\n\nThis first Power Hour of 2022 will b
 e presented by Simon Brown and the focus will be everything tax-free.\n\nS
 imon will include the basics for those new to these great investing produc
 ts and will look into performance\, best assets to use in the tax-free acc
 ount and some new emerging trends for the year ahead. He'll also caution a
 gainst some riskier sectors as we move into a higher interest rate environ
 ment.\n\nFinally\, there will be lots of time for questions so if you're n
 ot sure about something you'll be able to get answers.\n\n 	Book for the w
 ebcast here.\n
END:VEVENT
BEGIN:VTIMEZONE
TZID:Africa/Johannesburg
X-LIC-LOCATION:Africa/Johannesburg
BEGIN:STANDARD
DTSTART:20210217T173000
TZOFFSETFROM:+0200
TZOFFSETTO:+0200
TZNAME:SAST
END:STANDARD
END:VTIMEZONE
END:VCALENDAR