BEGIN:VCALENDAR
VERSION:2.0
PRODID:-//wp-events-plugin.com//7.2.3.1//EN
BEGIN:VEVENT
UID:133@justonelap.com
DTSTART;TZID=Africa/Johannesburg:20210624T173000
DTEND;TZID=Africa/Johannesburg:20210624T183000
DTSTAMP:20210625T055856Z
URL:https://justonelap.com/events/jse-power-hour-rand-stronger-for-longer/
SUMMARY:JSE Power Hour: Rand ~ stronger for longer
DESCRIPTION:This event has concluded. The video is below.\n\nThe Rand curre
 ntly trades at pre-pandemic levels confusing many who expect it to continu
 ally weaken. But there are multiple drivers of Rand strength that could se
 e a number of years of a stronger currency as we've seen before.\n\nDecemb
 er 2001 - January 2005 saw the Rand improve from almost 14.00 to under 6.0
 0.\n\nIn this Power Hour presentation\, Simon Brown from Just One Lap\, wi
 ll look at what is pushing Rand strength. How long can it last? How strong
  can the Rand go?\n\nSimon will also look at the potential impact on your 
 portfolio and how you can mitigate any potential risks and even profit fro
 m this move.\n\n 	Book here.\n
END:VEVENT
BEGIN:VTIMEZONE
TZID:Africa/Johannesburg
X-LIC-LOCATION:Africa/Johannesburg
BEGIN:STANDARD
DTSTART:20200624T173000
TZOFFSETFROM:+0200
TZOFFSETTO:+0200
TZNAME:SAST
END:STANDARD
END:VTIMEZONE
END:VCALENDAR