BEGIN:VCALENDAR
VERSION:2.0
PRODID:-//wp-events-plugin.com//7.2.3.1//EN
BEGIN:VEVENT
UID:120@justonelap.com
DTSTART;TZID=Africa/Johannesburg:20200820T173000
DTEND;TZID=Africa/Johannesburg:20200820T183000
DTSTAMP:20200803T100602Z
URL:https://justonelap.com/events/jse-power-hour-pro-active-passive-manage
 ment/
SUMMARY:JSE Power Hour: Pro-active passive management
DESCRIPTION:Nerina Visser of etfSA is one of the foremost Exchange Traded F
 und (ETF) experts in South Africa and while Just One Lap takes the one ETF
  to rule them all approach\, Nerina takes a much more nuanced approach.\n\
 nIn this JSE Power Hour Nerina will focus on how to analyse and evaluate i
 ndividual ETFs for their suitability for your investment objectives.\n\nSh
 e'll then show us how to put them together\, how to monitor aggregate expo
 sure over time to identify (unintended) concentration and gaps\, and what 
 to do about it.\n\nHer insights will be applicable for both tax-free and d
 iscretionary ETF investing.\n\n 	Book for the live webcast here.\n
END:VEVENT
BEGIN:VTIMEZONE
TZID:Africa/Johannesburg
X-LIC-LOCATION:Africa/Johannesburg
BEGIN:STANDARD
DTSTART:20190821T173000
TZOFFSETFROM:+0200
TZOFFSETTO:+0200
TZNAME:SAST
END:STANDARD
END:VTIMEZONE
END:VCALENDAR