BEGIN:VCALENDAR
VERSION:2.0
PRODID:-//wp-events-plugin.com//7.2.3.1//EN
BEGIN:VEVENT
UID:136@justonelap.com
DTSTART;TZID=Africa/Johannesburg:20210722T173000
DTEND;TZID=Africa/Johannesburg:20210722T183000
DTSTAMP:20210723T041535Z
URL:https://justonelap.com/events/jse-power-hour-power-of-savings/
SUMMARY:JSE Power Hour: Power of savings
DESCRIPTION:This event has happened. Video is below.\n\n\n\n\n\n\n\nJuly is
  savings month in South Africa and in this Power Hour Simon Brown will be 
 joined by Gerald Mwandiambia\, acting CEO of SA Savings Institute to dive 
 deep into saving.\n\nSaving is not investing\, it has a different purpose 
 and we'll discuss how to balance saving with investing as both have very i
 mportant purposes.\n\nWe'll also cover the how and why to save such as eme
 rgency funds\, a deposit for a large purchase\, education or even a holida
 y.\n\nThis will be an interactive session and those attending are encourag
 ed to bring their own questions for the guests.\n\n 	Book here.\n
END:VEVENT
BEGIN:VTIMEZONE
TZID:Africa/Johannesburg
X-LIC-LOCATION:Africa/Johannesburg
BEGIN:STANDARD
DTSTART:20200722T173000
TZOFFSETFROM:+0200
TZOFFSETTO:+0200
TZNAME:SAST
END:STANDARD
END:VTIMEZONE
END:VCALENDAR