BEGIN:VCALENDAR
VERSION:2.0
PRODID:-//wp-events-plugin.com//7.2.3.1//EN
BEGIN:VEVENT
UID:150@justonelap.com
DTSTART;TZID=Africa/Johannesburg:20211202T173000
DTEND;TZID=Africa/Johannesburg:20211202T183000
DTSTAMP:20211202T172612Z
URL:https://justonelap.com/events/jse-power-hour-position-your-portfolio-f
 or-2022/
SUMMARY:JSE Power Hour: Position your portfolio for 2022
DESCRIPTION:This event has happened. The video is below.\n\n\n\n\n\nEvery y
 ear the final Power Hour is presented by Simon Brown as he details his exp
 ectations for the year ahead.\n\nHe'll focus on markets\, currencies\, com
 modities and the pandemic. Highlighting potential risks as well as opportu
 nities as we head into the third year of Covid-19 restrictions.\n\nImporta
 nt questions needing answers are around the commodity boom\, can it contin
 ue? Inflation\, will it be tamed or should we worry? And can tech stocks c
 ontinue their relentless march higher?\n\nImportantly Simon always starts 
 the event by reviewing his predictions from the previous year\, so there i
 s no hiding from his past predictions.\n\n 	Book here.\n
END:VEVENT
BEGIN:VTIMEZONE
TZID:Africa/Johannesburg
X-LIC-LOCATION:Africa/Johannesburg
BEGIN:STANDARD
DTSTART:20201202T173000
TZOFFSETFROM:+0200
TZOFFSETTO:+0200
TZNAME:SAST
END:STANDARD
END:VTIMEZONE
END:VCALENDAR