BEGIN:VCALENDAR
VERSION:2.0
PRODID:-//wp-events-plugin.com//7.2.3.1//EN
BEGIN:VEVENT
UID:149@justonelap.com
DTSTART;TZID=Africa/Johannesburg:20211118T173000
DTEND;TZID=Africa/Johannesburg:20211118T183000
DTSTAMP:20211115T072611Z
URL:https://justonelap.com/events/jse-power-hour-opportunities-in-local-an
 d-global-property/
SUMMARY:JSE Power Hour: Opportunities in local and global property
DESCRIPTION:The Real Estate Investment Trust (REIT) sector has had a mixed 
 pandemic as industrial has performed very well while office remains under 
 severe pressure.\n\nHowever\, valuations remain cheap as the index is stil
 l off some 50% from the 2017 peak.\n\nIn the Power Hour Ahmed Motara\, por
 tfolio manager at Stanlib\, will be focusing on the property sector and de
 tailing risks and opportunities in both local and offshore REITs.\n\n 	Boo
 k here.\n
END:VEVENT
BEGIN:VTIMEZONE
TZID:Africa/Johannesburg
X-LIC-LOCATION:Africa/Johannesburg
BEGIN:STANDARD
DTSTART:20201118T173000
TZOFFSETFROM:+0200
TZOFFSETTO:+0200
TZNAME:SAST
END:STANDARD
END:VTIMEZONE
END:VCALENDAR