BEGIN:VCALENDAR
VERSION:2.0
PRODID:-//wp-events-plugin.com//7.2.3.1//EN
BEGIN:VEVENT
UID:94@justonelap.com
DTSTART;TZID=Africa/Johannesburg:20191031T173000
DTEND;TZID=Africa/Johannesburg:20191031T183000
DTSTAMP:20191007T052849Z
URL:https://justonelap.com/events/jse-power-hour-live-fat-wallet-show/
SUMMARY:JSE Power Hour: Live Fat Wallet Show
DESCRIPTION:This Cape Town edition of the JSE Power Hour will be a live rec
 ording of the award-winning podcast\, The Fat Wallet Show. Hosted by Just 
 One Lap’s Kristia van Heerden and Simon Brown\, the show is an ode to go
 od questions about money. The discussion will cover saving\, insurance\, t
 ax-free accounts\, investing and all the bits in-between.\n\nExpect a live
 ly and occasionally irreverent hour with content that is practical and dow
 n to earth. The sole aim of this hour is to help you make better money dec
 isions.\n\nBring a friend and bring your money-related questions. We’ll 
 get you answers.\n\n 	Book for the webcast here.\n 	Book for the live even
 t here.\n
END:VEVENT
BEGIN:VTIMEZONE
TZID:Africa/Johannesburg
X-LIC-LOCATION:Africa/Johannesburg
BEGIN:STANDARD
DTSTART:20181031T173000
TZOFFSETFROM:+0200
TZOFFSETTO:+0200
TZNAME:SAST
END:STANDARD
END:VTIMEZONE
END:VCALENDAR