BEGIN:VCALENDAR
VERSION:2.0
PRODID:-//wp-events-plugin.com//7.2.3.1//EN
BEGIN:VEVENT
UID:123@justonelap.com
DTSTART;TZID=Africa/Johannesburg:20201008T173000
DTEND;TZID=Africa/Johannesburg:20201008T183000
DTSTAMP:20200929T071158Z
URL:https://justonelap.com/events/jse-power-hour-investing-in-local-and-gl
 obal-listed-property/
SUMMARY:JSE Power Hour: Investing in local and global listed property
DESCRIPTION:Covid-19 has had a devastating impact on the listed property se
 ctor\, both locally and globally. Following the idea of a K shaped economi
 c recovery which suggests the upper leg of the market does very well while
  the lower leg continues to struggle\,  we see a similar situation playin
 g out in the listed property sector.\n\nOffice and retail properties have 
 been especially hard hit as corporate SA stays home\, while logistic prope
 rty stocks have actually seen business boom during the last six months as 
 online commerce takes off.\n\nKeillen Ndlovu\, Head of Listed Property at 
 Stanlib and will be presenting this Power Hour and looking at both local a
 nd global property investments. In previous years Keillen has had a distin
 ct preference for the more diverse offshore property market but with the l
 ocal property index trading as 2006 levels\, it begs the question if we ar
 e starting to see value locally.\n\n 	Register for the webcast here.\n
END:VEVENT
BEGIN:VTIMEZONE
TZID:Africa/Johannesburg
X-LIC-LOCATION:Africa/Johannesburg
BEGIN:STANDARD
DTSTART:20191009T173000
TZOFFSETFROM:+0200
TZOFFSETTO:+0200
TZNAME:SAST
END:STANDARD
END:VTIMEZONE
END:VCALENDAR