BEGIN:VCALENDAR
VERSION:2.0
PRODID:-//wp-events-plugin.com//7.2.3.1//EN
BEGIN:VEVENT
UID:132@justonelap.com
DTSTART;TZID=Africa/Johannesburg:20210506T173000
DTEND;TZID=Africa/Johannesburg:20210506T183000
DTSTAMP:20210506T171951Z
URL:https://justonelap.com/events/jse-power-hour-finding-income-in-jse-lis
 tings/
SUMMARY:JSE Power Hour: Finding income in JSE listings
DESCRIPTION:This event has happened\, the video is below.\n\n\n\n\n\nWith i
 nterest rates globally at multi-generational lows\, how does an investor f
 ind income from their investments?\n\nKeith McLachlan\, Investment Officer
  at Integral Asset Management\, will present this Power Hour with a number
  of listed options on the JSE.\n\nProperty stocks\, preference shares\, hi
 gh yielding defensive shares and even bond Exchange Traded Funds (ETFs) al
 l offer an income with varying degrees of return and risk.\n\n 	Book for t
 he webcast here.\n
END:VEVENT
BEGIN:VTIMEZONE
TZID:Africa/Johannesburg
X-LIC-LOCATION:Africa/Johannesburg
BEGIN:STANDARD
DTSTART:20200506T173000
TZOFFSETFROM:+0200
TZOFFSETTO:+0200
TZNAME:SAST
END:STANDARD
END:VTIMEZONE
END:VCALENDAR