BEGIN:VCALENDAR
VERSION:2.0
PRODID:-//wp-events-plugin.com//7.2.3.1//EN
BEGIN:VEVENT
UID:160@justonelap.com
DTSTART;TZID=Africa/Johannesburg:20220714T173000
DTEND;TZID=Africa/Johannesburg:20220714T183000
DTSTAMP:20220715T041852Z
URL:https://justonelap.com/events/jse-power-hour-building-a-resilient-port
 folio-for-tough-markets/
SUMMARY:JSE Power Hour: Building a resilient portfolio for tough markets
DESCRIPTION:\n\n\n\n\nThe first half of 2022 has been the toughest start to
  the year for the US since 2002 with the Nasdaq being down 30% and the S&a
 mp\;P500 losing 20%. Locally the Top40 was down 10% as mining stocks and s
 ome banks helped hold the market up.\n\nThe selling is being driven by ris
 ing inflation (at forty-year highs in developed markets)\, energy costs (f
 uel at record highs globally) and interest rates (rising the world over) a
 nd none of this is going away any time soon.\n\nAs investors\, we need to 
 ensure our portfolio is positioned for this new reality of higher rates an
 d inflation while still generating returns.\n\nIn this webcast\, Simon Bro
 wn\, founder of Just One Lap\, will help you build a resilient portfolio t
 hat will protect you now and be ready for when markets start to improve.\n
 \nHe'll cover\;\n\n 	The outlook for markets for the rest of 2022 and 2023
 \n 	Sectors that do well in a high inflation environment\n 	How to profit 
 off higher rates\n 	Defensive sectors to hold\n 	Risky sectors to reduce\n
 \nBook here.
END:VEVENT
BEGIN:VTIMEZONE
TZID:Africa/Johannesburg
X-LIC-LOCATION:Africa/Johannesburg
BEGIN:STANDARD
DTSTART:20210714T173000
TZOFFSETFROM:+0200
TZOFFSETTO:+0200
TZNAME:SAST
END:STANDARD
END:VTIMEZONE
END:VCALENDAR