BEGIN:VCALENDAR
VERSION:2.0
PRODID:-//wp-events-plugin.com//7.2.3.1//EN
BEGIN:VEVENT
UID:145@justonelap.com
DTSTART;TZID=Africa/Johannesburg:20211104T173000
DTEND;TZID=Africa/Johannesburg:20211104T183000
DTSTAMP:20211019T080914Z
URL:https://justonelap.com/events/jse-power-hour-bold-predictions-from-sas
 -top-broker/
SUMMARY:JSE Power Hour: Bold predictions from SA's top broker
DESCRIPTION:Even as the world returns to normal\, there are still numerous 
 pandemic-based issues impacting local and global markets. The mainstream m
 edia is awash with headlines detailing supply chain issues\, energy crises
  and the spectre of persistent inflation.\n\nJoin Gary Booysen from Rand S
 wiss\, on the 4th of November\, to find out how they're navigating post-pa
 ndemic markets. The firm was ranked SA’s number #1 Securities Broker in 
 2021 and is the People’s Choice award winner.\n\nIn this webcast\, he’
 ll:\n\n 	Reveal the latest market and economic trends they're monitoring (
 both positive and negative) and suggest some shares to add to your portfol
 io\,\n 	Discuss how to put your personal share portfolio into an RA wrappe
 r to maximise your tax rebate\, and\n 	Explore what you should expect from
  your stockbroker in 2021\, as we move beyond the focus on fees and platfo
 rms.\n\nBook here.
END:VEVENT
BEGIN:VTIMEZONE
TZID:Africa/Johannesburg
X-LIC-LOCATION:Africa/Johannesburg
BEGIN:STANDARD
DTSTART:20201104T173000
TZOFFSETFROM:+0200
TZOFFSETTO:+0200
TZNAME:SAST
END:STANDARD
END:VTIMEZONE
END:VCALENDAR