BEGIN:VCALENDAR
VERSION:2.0
PRODID:-//wp-events-plugin.com//7.2.3.1//EN
BEGIN:VEVENT
UID:122@justonelap.com
DTSTART;TZID=Africa/Johannesburg:20200903T173000
DTEND;TZID=Africa/Johannesburg:20200903T183000
DTSTAMP:20200821T091910Z
URL:https://justonelap.com/events/jse-power-hour-a-look-under-the-hood-of-
 a-passive-robo-advisor/
SUMMARY:JSE Power Hour: Under the hood of a passive robo advisor
DESCRIPTION:Putting together a state of the art advice algorithm requires s
 ome serious data crunching. Analysing over a hundred year’s worth of dat
 a teaches one a thing or two about markets and trends.\n\nIn this presenta
 tion\, Grant Locke\, the brains behind OUTvest\, shares some of the incred
 ible insights he’s gained in the process of putting together one of Sout
 h Africa’s top robo advisors.\n\nIf you ever really wanted to understand
  what happens under the bonnet of one of South Africa’s newest robo advi
 sors\, then this is for you. The OUTvest technology is outcomes-focussed. 
 Take a closer look at everything from our automated advice algorithms all 
 the way to our investment exposures. The last part of the presentation tak
 es you through some high level insights\, finally answering the only quest
 ion that matters – does it work?\n\n 	Book for the webcast here.\n
END:VEVENT
BEGIN:VTIMEZONE
TZID:Africa/Johannesburg
X-LIC-LOCATION:Africa/Johannesburg
BEGIN:STANDARD
DTSTART:20190904T173000
TZOFFSETFROM:+0200
TZOFFSETTO:+0200
TZNAME:SAST
END:STANDARD
END:VTIMEZONE
END:VCALENDAR