BEGIN:VCALENDAR
VERSION:2.0
PRODID:-//wp-events-plugin.com//7.2.3.1//EN
BEGIN:VEVENT
UID:131@justonelap.com
DTSTART;TZID=Africa/Johannesburg:20210422T110000
DTEND;TZID=Africa/Johannesburg:20210422T120000
DTSTAMP:20210415T145327Z
URL:https://justonelap.com/events/introducing-the-coreshares-total-world-e
 tf/
SUMMARY:Introducing the CoreShares Total World ETF
DESCRIPTION:\n\nIntroducing the CoreShares Total World ETF*\nTHE UNITED NAT
 IONS OF INVESTMENTS\nBenefit from exposure to 25 developed markets &amp\; 
 24 emerging markets.\n\nCoreShares is delighted to announce the launch of 
 the CoreShares Total World ETF* (share code: GLOBAL) which tracks the FTSE
  Global All Cap Index. This index represents the full opportunity set of l
 arge\, mid\, and small-cap stocks across 25 developed and 24 emerging mark
 ets\, comprising over 9000 constituents across 10 sectors and is arguably 
 the most comprehensive ‘all in’ global strategy to be listed on the JS
 E.\n\n 	Chris Rule and Simon Brown will be hosting a webcast about this ne
 w ETF on Thursday 22 April at 11am. Book here.\n\n\n\n\nThe benefits\nThe 
 CoreShares Total World ETF* is a compelling way for South African investor
 s to access global equity exposure for these reasons:\n\n 	TOTAL exposure 
 – This is one of the most comprehensive global strategies covering most 
 markets within ONE simplified product.\n 	“Real economy” global equity
  exposure – Emerging Markets (EM) make up over one-third of world GDP an
 d should be represented in a truly global equity investment strategy. EM m
 akes up an important 11% of this benchmark.\n 	Diversification – This in
 dex offers efficient exposure to a broad range of countries\, currencies\,
  sectors\, and companies around the globe. Investors can access an increas
 ed number of shares and better geographic diversification than ever before
  by investing in this product.\n 	Avoid the “home bias” - While South 
 Africa makes up just a tiny portion of global markets\, most South African
 s are overly exposure to the local market and economy and would benefit fr
 om a more diversified global investment portfolio\n 	Exposure to high grow
 th economies – Investors are rewarded when making EM allocations as the 
 returns typically associated with these developing (and statistically risk
 ier) markets leads to better performance over the long term.\n 	Cost - The
  CoreShares Total World ETF* is a cost-effective way to achieve a truly gl
 obal investment\, carrying a modest management fee of 0.15% and a targeted
  TER of 0.29%.\n\nThe fund is suitable for all investors (whether large or
  small) looking to make a long term\, global equity investment and diversi
 fy outside of South Africa.\n\n* Subject to JSE approval
END:VEVENT
BEGIN:VTIMEZONE
TZID:Africa/Johannesburg
X-LIC-LOCATION:Africa/Johannesburg
BEGIN:STANDARD
DTSTART:20200422T110000
TZOFFSETFROM:+0200
TZOFFSETTO:+0200
TZNAME:SAST
END:STANDARD
END:VTIMEZONE
END:VCALENDAR