BEGIN:VCALENDAR
VERSION:2.0
PRODID:-//wp-events-plugin.com//7.2.3.1//EN
BEGIN:VEVENT
UID:195@justonelap.com
DTSTART:20240528T090000Z
DTEND:20240528T100000Z
DTSTAMP:20240415T124743Z
URL:https://justonelap.com/events/discover-the-power-of-commodities-with-1
 nvest-navigating-the-trends-and-unlocking-portfolio-diversity/
SUMMARY:Discover the Power of Commodities with 1nvest: Navigating the Trend
 s and Unlocking Portfolio Diversity
DESCRIPTION:[caption id="attachment_41838" align="alignleft" width="240"] J
 ohann Erasmus\, executive director 1nvest[/caption]\n\nJoin us for an insi
 ghtful webcast as Simon Brown from JustOneLap.com sits down with Johann Er
 asmus\, the executive director at 1nvest\, to explore the exciting world o
 f commodity investing.\n\nIn this must-attend event\, you'll gain a compre
 hensive understanding of the current commodity market landscape and uncove
 r the tremendous potential these assets hold for diversifying your investm
 ent portfolio.\n\nHear from the experts as they delve into the latest tren
 ds shaping the prices of precious metals like gold and platinum group meta
 ls (PGMs)\, as well as industrial commodities such as copper and oil. Lear
 n how these commodities can serve as effective hedges against inflation an
 d provide valuable diversification to your overall investment strategy.\n\
 nWhether you're a seasoned investor or just starting your journey\, this w
 ebcast is the perfect opportunity to expand your knowledge and discover th
 e role commodities can play in building a resilient and well-balanced port
 folio.\n\nDon't miss out on this chance to connect with industry leaders\,
  ask questions\, and unlock the secrets to successful commodity investing.
  Register now and secure your spot for this enlightening and informative w
 ebcast.\nBook for the webcast here.\n\n\n\n\n\n\n\n&nbsp\;
END:VEVENT
END:VCALENDAR